BEGIN:VCALENDAR
VERSION:2.0
PRODID:-//Library Market//iCal Export//EN
BEGIN:VEVENT
SUMMARY:Paws for Reading
UID:9481
DTSTAMP:20260419T205300Z
DTSTART:20260810T143000Z
DTEND:20260810T153000Z
LOCATION:5130 Davenport Drive, Lansing, MI 48917, United States
ROOM: Paws for Reading
DESCRIPTION:Call 517-321-4014 x3 or stop by the Youth Services desk to reg
 ister for a ten-minute reading time slot.All ages. Practice your reading w
 ith a great listener - a certified therapy dog! This is a great opportunit
 y for kids learning to read or struggling with reading (and those who love
  reading too!) to practice reading aloud. Kids can choose whatever they&#0
 39;d like to read and our friendly therapy dog will sit and listen. New f
 or 2026: Keep track of your reading with a special Paws for Reading log an
 d win prizes! 
URL:https://calendar.dtdl.org/event/paws-reading-9481
END:VEVENT
END:VCALENDAR
