BEGIN:VCALENDAR
VERSION:2.0
PRODID:-//Library Market//iCal Export//EN
BEGIN:VEVENT
SUMMARY:Youth Talent Show entries accepted
UID:9478
DTSTAMP:20260421T154200Z
DTSTART:20260601T040000Z
DTEND:20260601T040000Z
LOCATION:5130 Davenport Drive, Lansing, MI 48917, United States
ROOM: Youth Talent Show entries accepted
DESCRIPTION:Entries accepted: June 1-July 14Auditions: July 11 &amp; 15Tal
 ent Show: Thursday, August 6 (6:30 p.m.)Children and teens, ages 6-17 are 
 welcome to showcase an act, including singing, playing an instrument, danc
 e, magic, juggling, and more! Registration is open June 1-July 14 and entr
 y forms will be available at the Youth Services desk and online at dtdl.or
 g/summer. Participants must come to an audition session on July 11 or 15. 
 Audience members of all ages are welcome at the talent showcase on August 
 6 at 6:30 p.m.
URL:https://calendar.dtdl.org/event/youth-talent-show-entries-accepted-947
 8
END:VEVENT
END:VCALENDAR
