BEGIN:VCALENDAR
VERSION:2.0
PRODID:-//Library Market//iCal Export//EN
BEGIN:VEVENT
SUMMARY:Summer Reading Challenge ends
UID:9469
DTSTAMP:20260420T024100Z
DTSTART:20260822T040000Z
DTEND:20260822T040000Z
LOCATION:5130 Davenport Drive, Lansing, MI 48917, United States
ROOM: Summer Reading Challenge ends
DESCRIPTION:Today is the last day to turn in reading logs, log activity on
  Beanstack, pick up prizes, and enter drawings in the Summer Reading Chall
 enge. Grand prize drawings will be held next week and winners will be noti
 fied by phone or email.
URL:https://calendar.dtdl.org/event/summer-reading-challenge-ends-9469
END:VEVENT
END:VCALENDAR
