BEGIN:VCALENDAR
VERSION:2.0
PRODID:-//Library Market//iCal Export//EN
BEGIN:VEVENT
SUMMARY:Grab &amp; Go Meal Kits
UID:9340
DTSTAMP:20260419T202900Z
DTSTART:20260626T160000Z
DTEND:20260626T170000Z
LOCATION:5130 Davenport Drive, Lansing, MI 48917, United States
ROOM: Grab &amp; Go Meal Kits
DESCRIPTION:DTDL partners with the Greater Lansing Food Bank to offer Grab
  and Go Meal Kits. Kits include a variety of food and anyone under 18 is e
 ligible with no registration. Pick up a meal kit in the library lobby from
  12-1 pm after the Friday Family Film.Kits may also be requested for cars
 ide pickup or requested at the Circulation Desk anytime.
URL:https://calendar.dtdl.org/event/grab-go-meal-kits-9340
END:VEVENT
END:VCALENDAR
