BEGIN:VCALENDAR
VERSION:2.0
PRODID:-//Library Market//iCal Export//EN
BEGIN:VEVENT
SUMMARY:MiLibraryQuest begins
UID:9336
DTSTAMP:20260421T222100Z
DTSTART:20260701T040000Z
DTEND:20260701T040000Z
LOCATION:5130 Davenport Drive, Lansing, MI 48917, United States
ROOM: MiLibraryQuest begins
DESCRIPTION:Summer 2026 MiLibraryQuest runs July 1-31.Grades 6-12. Join Mi
 LibraryQuest this summer and unearth the rivalry between dinosaurs and hum
 ans in Michigan. Follow the foes throughout the state and solve a series o
 f puzzles in this online scavenger hunt. Complete the quest and enter to w
 in an Amazon gift card! Beginning July 1, visit dtdl.org/milibraryquest t
 o get started. 
URL:https://calendar.dtdl.org/event/milibraryquest-begins-9336
END:VEVENT
END:VCALENDAR
