BEGIN:VCALENDAR
VERSION:2.0
PRODID:-//Library Market//iCal Export//EN
BEGIN:VEVENT
SUMMARY:Clay Creations
UID:9335
DTSTAMP:20260419T203200Z
DTSTART:20260731T213000Z
DTEND:20260731T233000Z
LOCATION:5130 Davenport Drive, Lansing, MI 48917, United States
ROOM: Elmwood Room
DESCRIPTION:Ages 12-17. Create unique clay projects while learning fun cla
 y techniques like pinching, rolling, sculpting, and stamping. Registration
  required.
URL:https://calendar.dtdl.org/event/clay-creations-9335
END:VEVENT
END:VCALENDAR
