BEGIN:VCALENDAR
VERSION:2.0
PRODID:-//Library Market//iCal Export//EN
BEGIN:VEVENT
SUMMARY:Tween Dinolympics
UID:9334
DTSTAMP:20260419T190400Z
DTSTART:20260722T180000Z
DTEND:20260722T193000Z
LOCATION:5130 Davenport Drive, Lansing, MI 48917, United States
ROOM: Elmwood Room
DESCRIPTION:Ages 9-14. Race against the clock and other teams to win the D
 inosaur Olympics! Participate in fun minute-to-win-it-style games and enjo
 y a little friendly competition. Registration required.
URL:https://calendar.dtdl.org/event/tween-dinolympics-9334
END:VEVENT
END:VCALENDAR
