BEGIN:VCALENDAR
VERSION:2.0
PRODID:-//Library Market//iCal Export//EN
BEGIN:VEVENT
SUMMARY:Escape Room: The Lost Expedition
UID:9331
DTSTAMP:20260419T171400Z
DTSTART:20260718T140000Z
DTEND:20260718T193000Z
LOCATION:5130 Davenport Drive, Lansing, MI 48917, United States
ROOM: Lissa K. McLean Room
DESCRIPTION:Registration opens June 8. Call 517-321-4014 x3 to register fo
 r an escape room time slot (1 hour). Participants may sign up as individua
 ls or in a team up to 5 people.Ages 10-17. Get your friends together and t
 est your puzzle-solving skills in our newest escape room, where a team of 
 archeologists get lost in an ancient tomb. Up to five participants may si
 gn up per time slot. Both dates (July 17 &amp; 18) are the same escape ro
 om; please only register for one date and time slot.
URL:https://calendar.dtdl.org/event/escape-room-lost-expedition-9331
END:VEVENT
END:VCALENDAR
