BEGIN:VCALENDAR
VERSION:2.0
PRODID:-//Library Market//iCal Export//EN
BEGIN:VEVENT
SUMMARY:Tween STEAM
UID:9325
DTSTAMP:20260419T150300Z
DTSTART:20260708T180000Z
DTEND:20260708T193000Z
LOCATION:5130 Davenport Drive, Lansing, MI 48917, United States
ROOM: Elmwood Room
DESCRIPTION:Ages 9-12. Explore geology, paleontology, and archaeology in a
  fun, engaging way with science demonstrations, hands-on experiments, and 
 creative construction. Registration required.
URL:https://calendar.dtdl.org/event/tween-steam-9325
END:VEVENT
END:VCALENDAR
