BEGIN:VCALENDAR
VERSION:2.0
PRODID:-//Library Market//iCal Export//EN
BEGIN:VEVENT
SUMMARY:Minecraft Game Night
UID:9322
DTSTAMP:20260419T202700Z
DTSTART:20260626T214500Z
DTEND:20260627T000000Z
LOCATION:5130 Davenport Drive, Lansing, MI 48917, United States
ROOM: Elmwood Room
DESCRIPTION:Registration required.Ages 8-12. Build, play and explore with 
 fellow Minecrafters! This after-hours event is open to all skill levels an
 d you do not need an account to play. 
URL:https://calendar.dtdl.org/event/minecraft-game-night-9322
END:VEVENT
END:VCALENDAR
