BEGIN:VCALENDAR
VERSION:2.0
PRODID:-//Library Market//iCal Export//EN
BEGIN:VEVENT
SUMMARY:Eat Like an Herbivore: Vegetarian Cooking
UID:9321
DTSTAMP:20260421T191500Z
DTSTART:20260617T210000Z
DTEND:20260617T230000Z
LOCATION:5130 Davenport Drive, Lansing, MI 48917, United States
ROOM: Elmwood Room
DESCRIPTION:Ages 10-17. Join us to discover some vegetarian recipes. Get h
 ands-on with ingredients, learn cooking tips, and sample delicious dishes!
  Registration required.
URL:https://calendar.dtdl.org/event/collage-workshop-9321
END:VEVENT
END:VCALENDAR
