BEGIN:VCALENDAR
VERSION:2.0
PRODID:-//Library Market//iCal Export//EN
BEGIN:VEVENT
SUMMARY:Music &amp; Movement Storytime
UID:9314
DTSTAMP:20260419T205500Z
DTSTART:20260617T143000Z
DTEND:20260617T150000Z
LOCATION:5130 Davenport Drive, Lansing, MI 48917, United States
ROOM: Elmwood Room
DESCRIPTION:All ages. Enjoy engaging stories, move, dance, and sing to a v
 ariety of music; and learn to play with instruments, scarves, and other pr
 ops.
URL:https://calendar.dtdl.org/event/music-movement-storytime-9314
END:VEVENT
END:VCALENDAR
