BEGIN:VCALENDAR
VERSION:2.0
PRODID:-//Library Market//iCal Export//EN
BEGIN:VEVENT
SUMMARY:Storytime
UID:9312
DTSTAMP:20260419T190500Z
DTSTART:20260721T143000Z
DTEND:20260721T153000Z
LOCATION:5130 Davenport Drive, Lansing, MI 48917, United States
ROOM: Elmwood Room
DESCRIPTION:All ages. Join us for stories, music and rhymes, followed by f
 un art, science, and play activities.
URL:https://calendar.dtdl.org/event/storytime-9312
END:VEVENT
END:VCALENDAR
