BEGIN:VCALENDAR
VERSION:2.0
PRODID:-//Library Market//iCal Export//EN
BEGIN:VEVENT
SUMMARY:Dino Day
UID:9295
DTSTAMP:20260419T224800Z
DTSTART:20260803T143000Z
DTEND:20260803T153000Z
LOCATION:5130 Davenport Drive, Lansing, MI 48917, United States
ROOM: Elmwood Room
DESCRIPTION:All ages. Celebrate your summer reading success with a dinosau
 r party! Turn yourself into a dinosaur with dino crafts, play dino games, 
 race through an obstacle course, and embark on a scavenger hunt.
URL:https://calendar.dtdl.org/event/dino-day-9295
END:VEVENT
END:VCALENDAR
