BEGIN:VCALENDAR
VERSION:2.0
PRODID:-//Library Market//iCal Export//EN
BEGIN:VEVENT
SUMMARY:Fossil Fest with Michigan Geological Survey
UID:9294
DTSTAMP:20260419T203300Z
DTSTART:20260729T220000Z
DTEND:20260729T233000Z
LOCATION:5130 Davenport Drive, Lansing, MI 48917, United States
ROOM: Elmwood Room
DESCRIPTION:All ages welcome! Have you ever wondered: How do people learn 
 about ancient life? How were fossils made? Where on Earth are fossils foun
 d? Join us for a fun fossil-themed event and learn the answers! Enjoy hand
 s-on activity stations and meet scientists from the Michigan Geological Su
 rvey that study everything under the ground throughout Michigan! They’ll
  share their expertise on paleontology and show us a variety of Michigan f
 ossils.
URL:https://calendar.dtdl.org/event/fossil-fest-michigan-geological-survey
 -9294
END:VEVENT
END:VCALENDAR
