BEGIN:VCALENDAR
VERSION:2.0
PRODID:-//Library Market//iCal Export//EN
BEGIN:VEVENT
SUMMARY:Potter Park Zoo
UID:9292
DTSTAMP:20260419T203100Z
DTSTART:20260727T180000Z
DTEND:20260727T190000Z
LOCATION:5130 Davenport Drive, Lansing, MI 48917, United States
ROOM: Elmwood Room
DESCRIPTION:All ages. Discover the mystery and intrigue of different anima
 l skulls, as each and every skull has a unique story to tell! Learn the di
 fference between carnivores, herbivores, and omnivores with Potter Park Zo
 o and see different animal skulls and artifacts up close! No live animals 
 at this event.
URL:https://calendar.dtdl.org/event/potter-park-zoo-9292
END:VEVENT
END:VCALENDAR
