BEGIN:VCALENDAR
VERSION:2.0
PRODID:-//Library Market//iCal Export//EN
BEGIN:VEVENT
SUMMARY:Crazy Craig Juggling Show
UID:9291
DTSTAMP:20260419T190400Z
DTSTART:20260720T180000Z
DTEND:20260720T190000Z
LOCATION:5130 Davenport Drive, Lansing, MI 48917, United States
ROOM: Elmwood Room
DESCRIPTION:All ages. Crazy Craig’s variety show is non-stop action and 
 audience participation, with amazing juggling of all sorts of objects. He 
 also does tricks on various size unicycles, balancing acts, such as stacki
 ng ten metal folding chairs on his chin, magic, comedy and so much more!
URL:https://calendar.dtdl.org/event/crazy-craig-juggling-show-9291
END:VEVENT
END:VCALENDAR
