BEGIN:VCALENDAR
VERSION:2.0
PRODID:-//Library Market//iCal Export//EN
BEGIN:VEVENT
SUMMARY:Family Fun Night: Unearth YOUR Story
UID:9290
DTSTAMP:20260419T172400Z
DTSTART:20260716T220000Z
DTEND:20260716T230000Z
LOCATION:5130 Davenport Drive, Lansing, MI 48917, United States
ROOM: Elmwood Room
DESCRIPTION:All ages. Bring your family’s story to life with fun and eng
 aging activities for kids and grownups to do together. Create family tree 
 art, design a family crest, and start a personal time capsule. We’ll als
 o provide take-home activities to continue the family history exploration!
  
URL:https://calendar.dtdl.org/event/family-fun-night-unearth-your-story-92
 90
END:VEVENT
END:VCALENDAR
