BEGIN:VCALENDAR
VERSION:2.0
PRODID:-//Library Market//iCal Export//EN
BEGIN:VEVENT
SUMMARY:Construction Zone
UID:9289
DTSTAMP:20260419T171600Z
DTSTART:20260713T143000Z
DTEND:20260713T153000Z
LOCATION:5130 Davenport Drive, Lansing, MI 48917, United States
ROOM: Elmwood Room
DESCRIPTION:All ages. Join us for a variety of hands-on construction fun!Â
  Weâ€™ll have several different types of building mediums, from blocks to 
 cardboard tubes, for you to get creative, plus play stations with construc
 tion vehicles, tools, and a wrecking ball.
URL:https://calendar.dtdl.org/event/construction-zone-9289
END:VEVENT
END:VCALENDAR
