BEGIN:VCALENDAR
VERSION:2.0
PRODID:-//Library Market//iCal Export//EN
BEGIN:VEVENT
SUMMARY:Music &amp; Magic You Can Dig
UID:9288
DTSTAMP:20260419T150300Z
DTSTART:20260706T143000Z
DTEND:20260706T153000Z
LOCATION:5130 Davenport Drive, Lansing, MI 48917, United States
ROOM: Elmwood Room
DESCRIPTION:All ages. With magic, comedy, and live music, Pint Size Polkas
  will bring a smile to faces young and old alike. Performer Mike Schneider
  will entertain with trivia, magic tricks, and a special edition of name t
 hat tune! His high-energy musical performance is fun for the whole family.
URL:https://calendar.dtdl.org/event/music-magic-you-can-dig-9288
END:VEVENT
END:VCALENDAR
