BEGIN:VCALENDAR
VERSION:2.0
PRODID:-//Library Market//iCal Export//EN
BEGIN:VEVENT
SUMMARY:LEGO® Creation Challenge
UID:9287
DTSTAMP:20260421T222100Z
DTSTART:20260629T180000Z
DTEND:20260629T190000Z
LOCATION:5130 Davenport Drive, Lansing, MI 48917, United States
ROOM: Elmwood Room
DESCRIPTION:Space is limited! Registration is required for each child part
 icipating.All ages. Use your imagination and construction skills to build 
 a Lego creation inspired by our summer theme of Unearth a Story. Sound eas
 y? Here’s the catch: each builder (or team of builders) will work with a
  mystery set of Legos provided by the library. 
URL:https://calendar.dtdl.org/event/legor-creation-challenge-9287
END:VEVENT
END:VCALENDAR
