BEGIN:VCALENDAR
VERSION:2.0
PRODID:-//Library Market//iCal Export//EN
BEGIN:VEVENT
SUMMARY:Unearth a Story with Mad Science
UID:9286
DTSTAMP:20260419T203900Z
DTSTART:20260624T220000Z
DTEND:20260624T230000Z
LOCATION:5130 Davenport Drive, Lansing, MI 48917, United States
ROOM: Elmwood Room
DESCRIPTION:All ages. In this interactive show from Mad Science of Detroit
 , kids become paleontologists on a journey through time to uncover the hid
 den tales of dinosaurs and the creatures that inspired myths and legends! 
 Through hands-on demonstrations, audience participation, and lively experi
 ments, learn how dinosaurs lived, what they ate, and how big they were.
URL:https://calendar.dtdl.org/event/unearth-story-mad-science-9286
END:VEVENT
END:VCALENDAR
