BEGIN:VCALENDAR
VERSION:2.0
PRODID:-//Library Market//iCal Export//EN
BEGIN:VEVENT
SUMMARY:Bubble Science Show
UID:9285
DTSTAMP:20260421T185700Z
DTSTART:20260617T180000Z
DTEND:20260617T193000Z
LOCATION:5130 Davenport Drive, Lansing, MI 48917, United States
ROOM: Elmwood Room
DESCRIPTION:All ages. All ages.Â Pop into the exciting universe of bubble 
 science with Michigan Bubble Fun! Uncover the secrets of bubble geometry, 
 color theory, and learn how to hold your very own bubble. Learn about bubb
 le sizes from micro bubbles to whale size bubbles. Audience members will e
 ven have a chance to be put inside a bubble! A hands-on bubble lab geared 
 toward ages 5 and up will follow the presentation. Bring a recycled plasti
 c bottle (12-16 oz pop bottles work best) to build a bubble foam blaster!Â
  
URL:https://calendar.dtdl.org/event/bubble-science-show-9285
END:VEVENT
END:VCALENDAR
