BEGIN:VCALENDAR
VERSION:2.0
PRODID:-//Library Market//iCal Export//EN
BEGIN:VEVENT
SUMMARY:Family Fun Night: Cardboard Construction
UID:9284
DTSTAMP:20260421T185700Z
DTSTART:20260615T220000Z
DTEND:20260615T230000Z
LOCATION:5130 Davenport Drive, Lansing, MI 48917, United States
ROOM: Elmwood Room
DESCRIPTION:All ages. Play and build with cardboard, recycled materials, a
 nd STEM toys in this open play event for the whole family. Create a recycl
 osaurus or invent something new. Explore, experiment, and imagine!
URL:https://calendar.dtdl.org/event/family-fun-night-cardboard-constructio
 n-9284
END:VEVENT
END:VCALENDAR
