BEGIN:VCALENDAR
VERSION:2.0
PRODID:-//Library Market//iCal Export//EN
BEGIN:VEVENT
SUMMARY:Friday Family Film
UID:9281
DTSTAMP:20260419T171500Z
DTSTART:20260717T141500Z
DTEND:20260717T161500Z
LOCATION:5130 Davenport Drive, Lansing, MI 48917, United States
ROOM: Elmwood Room
DESCRIPTION:All ages. Stay cool inside on those hot summer days with famil
 y-friendly movies! Watch on the big screen in the Elmwood Room, with free 
 popcorn. In addition to chairs, floor space will be provided in front of t
 he screen, so feel free to bring a blanket to sit on. 
URL:https://calendar.dtdl.org/event/friday-family-film-9281
END:VEVENT
END:VCALENDAR
