BEGIN:VCALENDAR
VERSION:2.0
PRODID:-//Library Market//iCal Export//EN
BEGIN:VEVENT
SUMMARY:Junior Explorers
UID:9278
DTSTAMP:20260419T165400Z
DTSTART:20260730T143000Z
DTEND:20260730T153000Z
LOCATION:5130 Davenport Drive, Lansing, MI 48917, United States
ROOM: Elmwood Room
DESCRIPTION:Ages 5-8. Join us to explore, imagine, and discover with fun, 
 hands-on activities! We’ll unearth new topics each week, including dinos
 aurs, fossils, archaeology, nature, underground, and more, while experimen
 ting, creating, and sharing stories.
URL:https://calendar.dtdl.org/event/junior-explorers-9278
END:VEVENT
END:VCALENDAR
