BEGIN:VCALENDAR
VERSION:2.0
PRODID:-//Library Market//iCal Export//EN
BEGIN:VEVENT
SUMMARY:Kids Garden Club
UID:9268
DTSTAMP:20260419T150200Z
DTSTART:20260707T220000Z
DTEND:20260707T230000Z
LOCATION:5130 Davenport Drive, Lansing, MI 48917, United States
ROOM: Kids Garden Club
DESCRIPTION:Kids Garden Club is a 4-week series! Registration is for all f
 our sessions of the club.All ages. Let’s dig into gardening together! Jo
 in us for this four-week series (Tuesdays, July 7-28) where we’ll learn 
 about gardening from planning and planting to harvesting and weeding. Get 
 hands-on in our patio gardens, create nature art, sample produce, and more
 . Registration required.
URL:https://calendar.dtdl.org/event/kids-garden-club-9268
END:VEVENT
END:VCALENDAR
