BEGIN:VCALENDAR
VERSION:2.0
PRODID:-//Library Market//iCal Export//EN
BEGIN:VEVENT
SUMMARY:Youth Talent Show
UID:9264
DTSTAMP:20260419T224500Z
DTSTART:20260806T223000Z
DTEND:20260806T233000Z
LOCATION:5130 Davenport Drive, Lansing, MI 48917, United States
ROOM: Elmwood Room
DESCRIPTION:Audience members of all ages are welcome to this talent showca
 se, featuring a variety of acts from kids and teens, ages 6-17.
URL:https://calendar.dtdl.org/event/youth-talent-show-9264
END:VEVENT
END:VCALENDAR
