BEGIN:VCALENDAR
VERSION:2.0
PRODID:-//Library Market//iCal Export//EN
BEGIN:VEVENT
SUMMARY:Discover with Digby begins
UID:9263
DTSTAMP:20260421T154200Z
DTSTART:20260601T040000Z
DTEND:20260601T040000Z
LOCATION:5130 Davenport Drive, Lansing, MI 48917, United States
ROOM: Discover with Digby begins
DESCRIPTION:All ages. Embark on a summer tour of exploration and adventure
  with Digby, our library dinosaur mascot. Pick up a discovery passport and
  Digby travel buddy from DTDL starting June 1. Take Digby along as you com
 plete the activities and share your pictures and stories with us! Turn in 
 your passport by August 22 to earn a prize.
URL:https://calendar.dtdl.org/event/discover-digby-begins-9263
END:VEVENT
END:VCALENDAR
