BEGIN:VCALENDAR
VERSION:2.0
PRODID:-//Library Market//iCal Export//EN
BEGIN:VEVENT
SUMMARY:KidSight Vision Screening
UID:8598
DTSTAMP:20260421T154200Z
DTSTART:20260606T140000Z
DTEND:20260606T160000Z
LOCATION:5130 Davenport Drive, Lansing, MI 48917, United States
ROOM: Michael D. Moore Board Room
DESCRIPTION:The Bretton Woods Lions Club will be at the library offering f
 ree KidSight vision screening for those interested. Parents will need to 
 provide a consent form for their child(ren) prior to the screening. Consen
 t forms will be available on-site. Project KidSight aims to prevent perma
 nent vision loss through early detection and treatment of vision disorders
  in children. Project KidSight can quickly and accurately identify potenti
 al vision problems in children as young as age one without causing stress 
 to the child. In less than one second, their portable high-tech vision scr
 eener measures and compares the refractive power of the child&#039;s eyes,
  pupil size, and corneal alignment to age based referral criteria. Learn m
 ore here.Please register any children that you would like screened so we c
 an get an estimate of attendance. Registering does not assign you a specif
 ic time, so you are welcome to come any time from 10 am-12 pm. 
URL:https://calendar.dtdl.org/event/kidsight-vision-screening-8598
END:VEVENT
END:VCALENDAR
